BEGIN:VCALENDAR
VERSION:2.0
PRODID:icalendar-ruby
CALSCALE:GREGORIAN
BEGIN:VEVENT
DTSTAMP:20260425T104747Z
UID:5e002e99-4664-447e-9692-28e61c770888
DTSTART;TZID=Pacific/Auckland:20260426T120000
DTEND;TZID=Pacific/Auckland:20260426T123000
DESCRIPTION:Property ID# 603249
SUMMARY:Openhome for 23 Huntingdon Drive
END:VEVENT
END:VCALENDAR
