BEGIN:VCALENDAR
VERSION:2.0
PRODID:icalendar-ruby
CALSCALE:GREGORIAN
BEGIN:VEVENT
DTSTAMP:20260423T104444Z
UID:f5b9563e-f211-4d74-8a6c-f6d94dd90352
DTSTART;VALUE=DATE:20260422
DESCRIPTION:Property ID# 606027\, Locatoin: Onsite (unless sold prior)\, Ti
 me: 4:00PM
SUMMARY:Auction for 490 Manchester Street
END:VEVENT
END:VCALENDAR
