BEGIN:VCALENDAR
VERSION:2.0
PRODID:icalendar-ruby
CALSCALE:GREGORIAN
BEGIN:VEVENT
DTSTAMP:20260425T144313Z
UID:d63e20ae-5b96-414f-80fa-1f68a5ed3623
DTSTART;VALUE=DATE:20260331
DESCRIPTION:Property ID# 604669\, Time: 4:00PM
SUMMARY:Auction for 25 Medway Street
END:VEVENT
END:VCALENDAR
