BEGIN:VCALENDAR
VERSION:2.0
PRODID:icalendar-ruby
CALSCALE:GREGORIAN
BEGIN:VEVENT
DTSTAMP:20260423T161340Z
UID:5794e7be-7390-4871-a7e8-e2612574311c
DTSTART;VALUE=DATE:20211006
DESCRIPTION:Property ID# 517524\, Time: 4:00PM
SUMMARY:Auction for 
END:VEVENT
END:VCALENDAR
