BEGIN:VCALENDAR
VERSION:2.0
PRODID:icalendar-ruby
CALSCALE:GREGORIAN
BEGIN:VEVENT
DTSTAMP:20260423T155701Z
UID:10e25733-1316-4352-ba51-369ab5dfeb71
DTSTART;VALUE=DATE:20210506
DESCRIPTION:Property ID# 507390\, Time: 4:00PM
SUMMARY:Auction for 
END:VEVENT
END:VCALENDAR
