BEGIN:VCALENDAR
VERSION:2.0
PRODID:icalendar-ruby
CALSCALE:GREGORIAN
BEGIN:VEVENT
DTSTAMP:20260423T161616Z
UID:2bb7e1a9-1eb6-4a8f-9efa-b3401962c504
DTSTART;VALUE=DATE:20191113
DESCRIPTION:Property ID# 465334\, Locatoin: All offers on or before 4pm\, W
 ednesday 13th November 2019 (unless sold prior).\, Time: 12:00PM
SUMMARY:Auction for 
END:VEVENT
END:VCALENDAR
